Package: SeqGate Version: 1.20.0 Maintainer: Stéphanie Rialle MaintainerEmail: stephanie.rialle at mgx.cnrs.fr git_url: https://git.bioconductor.org/packages/SeqGate git_branch: RELEASE_3_22 git_last_commit: b9fa51c git_last_commit_date: 2025-10-29 11:02:36 -0400 (Wed, 29 Oct 2025)