Package: SeqGSEA Version: 1.49.0 Command: /home/biocbuild/bbs-3.22-bioc/R/bin/R CMD INSTALL SeqGSEA StartedAt: 2025-10-24 15:36:47 -0400 (Fri, 24 Oct 2025) EndedAt: 2025-10-24 15:37:20 -0400 (Fri, 24 Oct 2025) EllapsedTime: 32.3 seconds RetCode: 0 Status: OK