Package: SeqGSEA Version: 1.49.0 Command: /home/biocbuild/bbs-3.22-bioc/R/bin/R CMD build --keep-empty-dirs --no-resave-data --md5 SeqGSEA StartedAt: 2025-10-24 20:10:32 -0400 (Fri, 24 Oct 2025) EndedAt: 2025-10-24 20:12:54 -0400 (Fri, 24 Oct 2025) EllapsedTime: 142.1 seconds RetCode: 0 Status: OK PackageFile: SeqGSEA_1.49.0.tar.gz PackageFileSize: 1.741 MiB