Package: SeqArray Version: 1.49.8 Command: /home/biocbuild/R/R/bin/R CMD INSTALL SeqArray StartedAt: 2025-10-23 20:36:14 -0000 (Thu, 23 Oct 2025) EndedAt: 2025-10-23 20:37:11 -0000 (Thu, 23 Oct 2025) EllapsedTime: 57.4 seconds RetCode: 0 Status: OK