Package: SeqArray Version: 1.49.8 Command: /home/biocbuild/R/R/bin/R CMD build --keep-empty-dirs --no-resave-data SeqArray StartedAt: 2025-10-21 03:05:45 -0000 (Tue, 21 Oct 2025) EndedAt: 2025-10-21 03:08:14 -0000 (Tue, 21 Oct 2025) EllapsedTime: 148.1 seconds RetCode: 0 Status: OK PackageFile: SeqArray_1.49.8.tar.gz PackageFileSize: 3.229 MiB