Package: SeqArray Version: 1.49.8 Command: /home/biocbuild/bbs-3.22-bioc/R/bin/R CMD check --install=check:SeqArray.install-out.txt --library=/home/biocbuild/bbs-3.22-bioc/R/site-library --timings SeqArray_1.49.8.tar.gz StartedAt: 2025-10-25 04:05:22 -0400 (Sat, 25 Oct 2025) EndedAt: 2025-10-25 04:10:44 -0400 (Sat, 25 Oct 2025) EllapsedTime: 322.4 seconds RetCode: 0 Status: OK CheckDir: SeqArray.Rcheck Warnings: 0