Package: SeqArray Version: 1.49.8 Maintainer: Xiuwen Zheng MaintainerEmail: zhengx at u.washington.edu git_url: https://git.bioconductor.org/packages/SeqArray git_branch: devel git_last_commit: 36ec555 git_last_commit_date: 2025-10-21 21:38:55 -0400 (Tue, 21 Oct 2025)