Package: SemDist Version: 1.44.0 Command: /home/biocbuild/bbs-3.22-bioc/R/bin/R CMD check --install=check:SemDist.install-out.txt --library=/home/biocbuild/bbs-3.22-bioc/R/site-library --timings SemDist_1.44.0.tar.gz StartedAt: 2025-10-31 03:58:04 -0400 (Fri, 31 Oct 2025) EndedAt: 2025-10-31 04:00:37 -0400 (Fri, 31 Oct 2025) EllapsedTime: 153.1 seconds RetCode: 0 Status: OK CheckDir: SemDist.Rcheck Warnings: 0