Package: SemDist Version: 1.43.0 Command: rm -rf SemDist.buildbin-libdir && mkdir SemDist.buildbin-libdir && /Users/biocbuild/BBS/utils/build-universal.sh SemDist_1.43.0.tar.gz /Library/Frameworks/R.framework/Resources/bin/R SemDist.buildbin-libdir StartedAt: 2025-10-25 02:03:41 -0400 (Sat, 25 Oct 2025) EndedAt: 2025-10-25 02:04:04 -0400 (Sat, 25 Oct 2025) EllapsedTime: 23.1 seconds RetCode: 0 Status: OK PackageFile: SemDist_1.43.0.tgz PackageFileSize: 1.99 MiB