Package: SemDist Version: 1.43.0 Command: /Library/Frameworks/R.framework/Resources/bin/R CMD INSTALL SemDist StartedAt: 2025-10-27 15:22:18 -0400 (Mon, 27 Oct 2025) EndedAt: 2025-10-27 15:22:25 -0400 (Mon, 27 Oct 2025) EllapsedTime: 6.4 seconds RetCode: 0 Status: OK