Package: ScreenR Version: 1.12.0 Command: /home/biocbuild/R/R/bin/R CMD INSTALL ScreenR StartedAt: 2025-11-13 21:14:41 -0000 (Thu, 13 Nov 2025) EndedAt: 2025-11-13 21:15:22 -0000 (Thu, 13 Nov 2025) EllapsedTime: 40.9 seconds RetCode: 0 Status: OK