Package: ScreenR Version: 1.12.0 Command: /home/biocbuild/R/R/bin/R CMD build --keep-empty-dirs --no-resave-data ScreenR StartedAt: 2025-11-14 05:14:06 -0000 (Fri, 14 Nov 2025) EndedAt: 2025-11-14 05:15:47 -0000 (Fri, 14 Nov 2025) EllapsedTime: 101.1 seconds RetCode: 0 Status: OK PackageFile: ScreenR_1.12.0.tar.gz PackageFileSize: 1.67 MiB