Package: ScreenR Version: 1.12.0 Command: /home/biocbuild/bbs-3.22-bioc/R/bin/R CMD check --install=check:ScreenR.install-out.txt --library=/home/biocbuild/bbs-3.22-bioc/R/site-library --timings ScreenR_1.12.0.tar.gz StartedAt: 2025-10-30 10:15:20 -0400 (Thu, 30 Oct 2025) EndedAt: 2025-10-30 10:18:46 -0400 (Thu, 30 Oct 2025) EllapsedTime: 206.1 seconds RetCode: 1 Status: ERROR CheckDir: ScreenR.Rcheck Warnings: NA