Package: Sconify Version: 1.29.1 Command: /home/biocbuild/bbs-3.22-bioc/R/bin/R CMD build --keep-empty-dirs --no-resave-data --md5 Sconify StartedAt: 2025-10-24 20:03:30 -0400 (Fri, 24 Oct 2025) EndedAt: 2025-10-24 20:04:01 -0400 (Fri, 24 Oct 2025) EllapsedTime: 31.0 seconds RetCode: 0 Status: OK PackageFile: Sconify_1.29.1.tar.gz PackageFileSize: 4.319 MiB