Package: Sconify Version: 1.30.0 Command: /Library/Frameworks/R.framework/Resources/bin/R CMD INSTALL Sconify StartedAt: 2025-11-03 15:07:23 -0500 (Mon, 03 Nov 2025) EndedAt: 2025-11-03 15:07:27 -0500 (Mon, 03 Nov 2025) EllapsedTime: 4.2 seconds RetCode: 0 Status: OK