Package: Sconify Version: 1.30.0 Command: /Library/Frameworks/R.framework/Resources/bin/R CMD build --keep-empty-dirs --no-resave-data Sconify StartedAt: 2025-11-02 17:39:38 -0500 (Sun, 02 Nov 2025) EndedAt: 2025-11-02 17:39:51 -0500 (Sun, 02 Nov 2025) EllapsedTime: 13.1 seconds RetCode: 0 Status: OK PackageFile: Sconify_1.30.0.tar.gz PackageFileSize: 4.338 MiB