Package: ScaledMatrix Version: 1.17.0 Command: /home/biocbuild/bbs-3.22-bioc/R/bin/R CMD INSTALL ScaledMatrix StartedAt: 2025-10-24 16:02:10 -0400 (Fri, 24 Oct 2025) EndedAt: 2025-10-24 16:02:29 -0400 (Fri, 24 Oct 2025) EllapsedTime: 19.0 seconds RetCode: 0 Status: OK