Package: ScaledMatrix Version: 1.18.0 Command: /home/biocbuild/bbs-3.22-bioc/R/bin/R CMD check --install=check:ScaledMatrix.install-out.txt --library=/home/biocbuild/bbs-3.22-bioc/R/site-library --timings ScaledMatrix_1.18.0.tar.gz StartedAt: 2025-10-31 03:36:21 -0400 (Fri, 31 Oct 2025) EndedAt: 2025-10-31 03:41:07 -0400 (Fri, 31 Oct 2025) EllapsedTime: 286.7 seconds RetCode: 0 Status: OK CheckDir: ScaledMatrix.Rcheck Warnings: 0