Package: ScaledMatrix Version: 1.17.0 Command: /Library/Frameworks/R.framework/Resources/bin/R CMD build --keep-empty-dirs --no-resave-data ScaledMatrix StartedAt: 2025-10-24 18:35:58 -0400 (Fri, 24 Oct 2025) EndedAt: 2025-10-24 18:38:23 -0400 (Fri, 24 Oct 2025) EllapsedTime: 144.9 seconds RetCode: 0 Status: OK PackageFile: ScaledMatrix_1.17.0.tar.gz PackageFileSize: 306.3 KiB