Package: ScaledMatrix Version: 1.17.0 Command: rm -rf ScaledMatrix.buildbin-libdir && mkdir ScaledMatrix.buildbin-libdir && /Users/biocbuild/BBS/utils/build-universal.sh ScaledMatrix_1.17.0.tar.gz /Library/Frameworks/R.framework/Resources/bin/R ScaledMatrix.buildbin-libdir StartedAt: 2025-10-25 02:01:46 -0400 (Sat, 25 Oct 2025) EndedAt: 2025-10-25 02:02:16 -0400 (Sat, 25 Oct 2025) EllapsedTime: 30.1 seconds RetCode: 0 Status: OK PackageFile: ScaledMatrix_1.17.0.tgz PackageFileSize: 605.4 KiB