Package: ScaledMatrix Version: 1.17.0 Command: /Library/Frameworks/R.framework/Resources/bin/R CMD INSTALL ScaledMatrix StartedAt: 2025-10-24 15:31:11 -0400 (Fri, 24 Oct 2025) EndedAt: 2025-10-24 15:31:18 -0400 (Fri, 24 Oct 2025) EllapsedTime: 7.8 seconds RetCode: 0 Status: OK