Package: Scale4C Version: 1.31.1 Command: /home/biocbuild/bbs-3.22-bioc/R/bin/R CMD INSTALL Scale4C StartedAt: 2025-10-24 15:28:54 -0400 (Fri, 24 Oct 2025) EndedAt: 2025-10-24 15:29:17 -0400 (Fri, 24 Oct 2025) EllapsedTime: 23.3 seconds RetCode: 0 Status: OK