Package: Scale4C Version: 1.32.0 Command: /home/biocbuild/bbs-3.22-bioc/R/bin/R CMD check --install=check:Scale4C.install-out.txt --library=/home/biocbuild/bbs-3.22-bioc/R/site-library --timings Scale4C_1.32.0.tar.gz StartedAt: 2025-11-21 04:13:04 -0500 (Fri, 21 Nov 2025) EndedAt: 2025-11-21 04:16:57 -0500 (Fri, 21 Nov 2025) EllapsedTime: 233.2 seconds RetCode: 0 Status: OK CheckDir: Scale4C.Rcheck Warnings: 0