Package: Scale4C Version: 1.32.0 Command: /Library/Frameworks/R.framework/Resources/bin/R CMD INSTALL Scale4C StartedAt: 2025-11-03 15:24:31 -0500 (Mon, 03 Nov 2025) EndedAt: 2025-11-03 15:25:05 -0500 (Mon, 03 Nov 2025) EllapsedTime: 33.5 seconds RetCode: 0 Status: OK