Package: Scale4C Version: 1.32.0 Command: /Library/Frameworks/R.framework/Resources/bin/R CMD build --keep-empty-dirs --no-resave-data Scale4C StartedAt: 2025-10-31 18:38:34 -0400 (Fri, 31 Oct 2025) EndedAt: 2025-10-31 18:40:28 -0400 (Fri, 31 Oct 2025) EllapsedTime: 113.5 seconds RetCode: 0 Status: OK PackageFile: Scale4C_1.32.0.tar.gz PackageFileSize: 4.877 MiB