Package: Scale4C Version: 1.32.0 Command: rm -rf Scale4C.buildbin-libdir && mkdir Scale4C.buildbin-libdir && /Users/biocbuild/BBS/utils/build-universal.sh Scale4C_1.32.0.tar.gz /Library/Frameworks/R.framework/Resources/bin/R Scale4C.buildbin-libdir StartedAt: 2025-11-01 01:55:27 -0400 (Sat, 01 Nov 2025) EndedAt: 2025-11-01 01:56:04 -0400 (Sat, 01 Nov 2025) EllapsedTime: 36.9 seconds RetCode: 0 Status: OK PackageFile: Scale4C_1.32.0.tgz PackageFileSize: 2.153 MiB