Package: Scale4C Version: 1.31.1 Command: /Library/Frameworks/R.framework/Resources/bin/R CMD INSTALL Scale4C StartedAt: 2025-10-24 15:14:28 -0400 (Fri, 24 Oct 2025) EndedAt: 2025-10-24 15:14:38 -0400 (Fri, 24 Oct 2025) EllapsedTime: 9.9 seconds RetCode: 0 Status: OK