Package: Scale4C Version: 1.31.1 Command: rm -rf Scale4C.buildbin-libdir && mkdir Scale4C.buildbin-libdir && /Users/biocbuild/BBS/utils/build-universal.sh Scale4C_1.31.1.tar.gz /Library/Frameworks/R.framework/Resources/bin/R Scale4C.buildbin-libdir StartedAt: 2025-10-24 23:18:06 -0400 (Fri, 24 Oct 2025) EndedAt: 2025-10-24 23:18:17 -0400 (Fri, 24 Oct 2025) EllapsedTime: 11.2 seconds RetCode: 0 Status: OK PackageFile: Scale4C_1.31.1.tgz PackageFileSize: 2.155 MiB