Package: Scale4C Version: 1.32.0 Maintainer: Carolin Walter MaintainerEmail: carolin.walter at uni-muenster.de git_url: https://git.bioconductor.org/packages/Scale4C git_branch: RELEASE_3_22 git_last_commit: 6a8b6be git_last_commit_date: 2025-10-29 10:39:01 -0500 (Wed, 29 Oct 2025)