Package: SanityR Version: 0.99.3 Command: /home/biocbuild/bbs-3.22-bioc/R/bin/R CMD INSTALL SanityR StartedAt: 2025-10-24 15:30:34 -0400 (Fri, 24 Oct 2025) EndedAt: 2025-10-24 15:31:04 -0400 (Fri, 24 Oct 2025) EllapsedTime: 30.4 seconds RetCode: 0 Status: OK