Package: SamSPECTRAL Version: 1.64.0 Command: /Library/Frameworks/R.framework/Resources/bin/R CMD INSTALL SamSPECTRAL StartedAt: 2025-11-03 15:09:16 -0500 (Mon, 03 Nov 2025) EndedAt: 2025-11-03 15:09:30 -0500 (Mon, 03 Nov 2025) EllapsedTime: 13.9 seconds RetCode: 0 Status: OK