Package: SamSPECTRAL Version: 1.64.0 Command: /Library/Frameworks/R.framework/Resources/bin/R CMD build --keep-empty-dirs --no-resave-data SamSPECTRAL StartedAt: 2025-11-03 18:35:03 -0500 (Mon, 03 Nov 2025) EndedAt: 2025-11-03 18:36:11 -0500 (Mon, 03 Nov 2025) EllapsedTime: 67.5 seconds RetCode: 0 Status: OK PackageFile: SamSPECTRAL_1.64.0.tar.gz PackageFileSize: 936.3 KiB