Package: SamSPECTRAL Version: 1.64.0 Command: rm -rf SamSPECTRAL.buildbin-libdir && mkdir SamSPECTRAL.buildbin-libdir && /Users/biocbuild/BBS/utils/build-universal.sh SamSPECTRAL_1.64.0.tar.gz /Library/Frameworks/R.framework/Resources/bin/R SamSPECTRAL.buildbin-libdir StartedAt: 2025-11-04 02:01:27 -0500 (Tue, 04 Nov 2025) EndedAt: 2025-11-04 02:01:40 -0500 (Tue, 04 Nov 2025) EllapsedTime: 13.7 seconds RetCode: 0 Status: OK PackageFile: SamSPECTRAL_1.64.0.tgz PackageFileSize: 995.7 KiB