Package: SamSPECTRAL Version: 1.63.0 Command: /Library/Frameworks/R.framework/Resources/bin/R CMD INSTALL SamSPECTRAL StartedAt: 2025-10-24 15:04:04 -0400 (Fri, 24 Oct 2025) EndedAt: 2025-10-24 15:04:05 -0400 (Fri, 24 Oct 2025) EllapsedTime: 1.8 seconds RetCode: 0 Status: OK