Package: SamSPECTRAL Version: 1.63.0 Command: /Library/Frameworks/R.framework/Resources/bin/R CMD build --keep-empty-dirs --no-resave-data SamSPECTRAL StartedAt: 2025-10-24 17:35:59 -0400 (Fri, 24 Oct 2025) EndedAt: 2025-10-24 17:36:30 -0400 (Fri, 24 Oct 2025) EllapsedTime: 31.4 seconds RetCode: 0 Status: OK PackageFile: SamSPECTRAL_1.63.0.tar.gz PackageFileSize: 936.5 KiB