Package: SamSPECTRAL Version: 1.63.0 Command: rm -rf SamSPECTRAL.buildbin-libdir && mkdir SamSPECTRAL.buildbin-libdir && /Users/biocbuild/BBS/utils/build-universal.sh SamSPECTRAL_1.63.0.tar.gz /Library/Frameworks/R.framework/Resources/bin/R SamSPECTRAL.buildbin-libdir StartedAt: 2025-10-24 23:17:58 -0400 (Fri, 24 Oct 2025) EndedAt: 2025-10-24 23:18:00 -0400 (Fri, 24 Oct 2025) EllapsedTime: 2.0 seconds RetCode: 0 Status: OK PackageFile: SamSPECTRAL_1.63.0.tgz PackageFileSize: 997.1 KiB