Package: SWATH2stats Version: 1.39.1 Command: /home/biocbuild/bbs-3.22-bioc/R/bin/R CMD INSTALL SWATH2stats StartedAt: 2025-10-24 15:37:51 -0400 (Fri, 24 Oct 2025) EndedAt: 2025-10-24 15:38:09 -0400 (Fri, 24 Oct 2025) EllapsedTime: 17.9 seconds RetCode: 0 Status: OK