Package: SWATH2stats Version: 1.40.0 Command: /Library/Frameworks/R.framework/Resources/bin/R CMD INSTALL SWATH2stats StartedAt: 2025-11-03 15:29:05 -0500 (Mon, 03 Nov 2025) EndedAt: 2025-11-03 15:29:32 -0500 (Mon, 03 Nov 2025) EllapsedTime: 27.6 seconds RetCode: 0 Status: OK