Package: SWATH2stats Version: 1.40.0 Command: /Library/Frameworks/R.framework/Resources/bin/R CMD build --keep-empty-dirs --no-resave-data SWATH2stats StartedAt: 2025-11-03 19:02:00 -0500 (Mon, 03 Nov 2025) EndedAt: 2025-11-03 19:03:00 -0500 (Mon, 03 Nov 2025) EllapsedTime: 59.4 seconds RetCode: 0 Status: OK PackageFile: SWATH2stats_1.40.0.tar.gz PackageFileSize: 3.032 MiB