Package: SWATH2stats Version: 1.39.1 Command: /Library/Frameworks/R.framework/Resources/bin/R CMD INSTALL SWATH2stats StartedAt: 2025-10-24 15:11:53 -0400 (Fri, 24 Oct 2025) EndedAt: 2025-10-24 15:12:01 -0400 (Fri, 24 Oct 2025) EllapsedTime: 7.6 seconds RetCode: 0 Status: OK