Package: SWATH2stats Version: 1.39.1 Command: /Library/Frameworks/R.framework/Resources/bin/R CMD build --keep-empty-dirs --no-resave-data SWATH2stats StartedAt: 2025-10-24 17:55:58 -0400 (Fri, 24 Oct 2025) EndedAt: 2025-10-24 17:56:19 -0400 (Fri, 24 Oct 2025) EllapsedTime: 21.2 seconds RetCode: 0 Status: OK PackageFile: SWATH2stats_1.39.1.tar.gz PackageFileSize: 3.033 MiB