Package: SWATH2stats Version: 1.39.1 Command: rm -rf SWATH2stats.buildbin-libdir && mkdir SWATH2stats.buildbin-libdir && /Users/biocbuild/BBS/utils/build-universal.sh SWATH2stats_1.39.1.tar.gz /Library/Frameworks/R.framework/Resources/bin/R SWATH2stats.buildbin-libdir StartedAt: 2025-10-24 23:22:02 -0400 (Fri, 24 Oct 2025) EndedAt: 2025-10-24 23:22:10 -0400 (Fri, 24 Oct 2025) EllapsedTime: 8.2 seconds RetCode: 0 Status: OK PackageFile: SWATH2stats_1.39.1.tgz PackageFileSize: 3.169 MiB