Package: SWATH2stats Version: 1.40.0 Maintainer: Peter Blattmann MaintainerEmail: peter_blattmann at bluewin.ch git_url: https://git.bioconductor.org/packages/SWATH2stats git_branch: RELEASE_3_22 git_last_commit: 63159bf git_last_commit_date: 2025-10-29 10:28:13 -0400 (Wed, 29 Oct 2025)