Package: SVP Version: 1.1.1 Command: /home/biocbuild/bbs-3.22-bioc/R/bin/R CMD INSTALL SVP StartedAt: 2025-10-24 15:30:50 -0400 (Fri, 24 Oct 2025) EndedAt: 2025-10-24 15:33:35 -0400 (Fri, 24 Oct 2025) EllapsedTime: 165.3 seconds RetCode: 0 Status: OK