Package: SUITOR Version: 1.11.0 Command: /home/biocbuild/bbs-3.22-bioc/R/bin/R CMD build --keep-empty-dirs --no-resave-data --md5 SUITOR StartedAt: 2025-10-27 20:24:20 -0400 (Mon, 27 Oct 2025) EndedAt: 2025-10-27 20:25:19 -0400 (Mon, 27 Oct 2025) EllapsedTime: 59.0 seconds RetCode: 0 Status: OK PackageFile: SUITOR_1.11.0.tar.gz PackageFileSize: 265.6 KiB