Package: STRINGdb Version: 2.22.0 Command: /Library/Frameworks/R.framework/Resources/bin/R CMD INSTALL STRINGdb StartedAt: 2025-10-30 15:06:08 -0400 (Thu, 30 Oct 2025) EndedAt: 2025-10-30 15:06:13 -0400 (Thu, 30 Oct 2025) EllapsedTime: 4.5 seconds RetCode: 0 Status: OK