Package: STATegRa Version: 1.45.0 Command: /home/biocbuild/bbs-3.22-bioc/R/bin/R CMD INSTALL STATegRa StartedAt: 2025-10-24 15:23:25 -0400 (Fri, 24 Oct 2025) EndedAt: 2025-10-24 15:23:37 -0400 (Fri, 24 Oct 2025) EllapsedTime: 12.2 seconds RetCode: 0 Status: OK