Package: STATegRa Version: 1.45.0 Command: /home/biocbuild/bbs-3.22-bioc/R/bin/R CMD build --keep-empty-dirs --no-resave-data --md5 STATegRa StartedAt: 2025-10-24 20:29:57 -0400 (Fri, 24 Oct 2025) EndedAt: 2025-10-24 20:31:50 -0400 (Fri, 24 Oct 2025) EllapsedTime: 113.1 seconds RetCode: 0 Status: OK PackageFile: STATegRa_1.45.0.tar.gz PackageFileSize: 4.946 MiB