Package: STADyUM Version: 0.99.4 Command: /home/biocbuild/bbs-3.22-bioc/R/bin/R CMD INSTALL STADyUM StartedAt: 2025-10-24 15:44:15 -0400 (Fri, 24 Oct 2025) EndedAt: 2025-10-24 15:45:00 -0400 (Fri, 24 Oct 2025) EllapsedTime: 44.6 seconds RetCode: 0 Status: OK