Package: STADyUM Version: 0.99.4 Command: /home/biocbuild/bbs-3.22-bioc/R/bin/R CMD build --keep-empty-dirs --no-resave-data --md5 STADyUM StartedAt: 2025-10-24 20:29:45 -0400 (Fri, 24 Oct 2025) EndedAt: 2025-10-24 20:31:38 -0400 (Fri, 24 Oct 2025) EllapsedTime: 113.1 seconds RetCode: 0 Status: OK PackageFile: STADyUM_0.99.4.tar.gz PackageFileSize: 2.79 MiB